BEGIN:VCALENDAR
VERSION:2.0
PRODID:icalendar-ruby
CALSCALE:GREGORIAN
METHOD:PUBLISH
BEGIN:VEVENT
DTSTAMP:20260419T220906Z
UID:6-223468@itsgodschurch.com
DTSTART:20260904T013000Z
DTEND:20260904T033000Z
CLASS:PUBLIC
CREATED:20260419T134614
DESCRIPTION:Join us for our weekly Bible Study on Zoom — grow in faith\, 
 connect in fellowship\, and dive deeper into God's Word from wherever you 
 are.\n 
LAST-MODIFIED:20260419T134614
LOCATION:Online
SUMMARY:Zoom Bible Study
URL;VALUE=URI:https://www.itsgodschurch.com/events/zoom-bible-study/2026-09
 -03
ATTACH;FILENAME=Zoom-Bible-Study-%28IGC%29-%281%29.PNG;FMTTYPE=image/png:ht
 tps://dq5pwpg1q8ru0.cloudfront.net/2025/05/02/16/25/20/94ec10b6-3700-4863-
 bfa6-2c236c4713e5/Zoom-Bible-Study-%2528IGC%2529-%25281%2529.PNG
END:VEVENT
END:VCALENDAR
